BEGIN:VCALENDAR
VERSION:2.0
PRODID:-//wp-events-plugin.com//7.2.3.1//EN
TZID:Europe/Vienna
X-WR-TIMEZONE:Europe/Vienna
BEGIN:VEVENT
UID:75@radegustieren.at
DTSTART;TZID=Europe/Vienna:20240713T090000
DTEND;TZID=Europe/Vienna:20240713T090000
DTSTAMP:20240113T191141Z
URL:https://radegustieren.at/veranstaltungen/kac-wanderung-mit-den-kac-lei
 bnitz-heiligengeistklamm-sveti-duh/
SUMMARY:KAC - Wanderung mit den KAC Leibnitz: Heiligengeistklamm - Sveti Du
 h
DESCRIPTION:
LOCATION:https://maps.app.goo.gl/VMyxVykC5RZ6UPnD9
END:VEVENT
BEGIN:VTIMEZONE
TZID:Europe/Vienna
X-LIC-LOCATION:Europe/Vienna
BEGIN:DAYLIGHT
DTSTART:20240331T030000
TZOFFSETFROM:+0100
TZOFFSETTO:+0200
TZNAME:CEST
END:DAYLIGHT
END:VTIMEZONE
END:VCALENDAR