BEGIN:VCALENDAR
VERSION:2.0
PRODID:-//wp-events-plugin.com//7.2.3.1//EN
TZID:Europe/Vienna
X-WR-TIMEZONE:Europe/Vienna
BEGIN:VEVENT
UID:42@radegustieren.at
DTSTART;TZID=Europe/Vienna:20230628T180000
DTEND;TZID=Europe/Vienna:20230628T193000
DTSTAMP:20230623T132515Z
URL:https://radegustieren.at/veranstaltungen/abschlusskonzert-der-schueler
 innen-des-ivi-musikschulprojekts/
SUMMARY:Abschlusskonzert des IVI-Musikschulprojekts
DESCRIPTION:
LOCATION:https://goo.gl/maps/aTbxU3bfr8kDUTwB9
END:VEVENT
BEGIN:VTIMEZONE
TZID:Europe/Vienna
X-LIC-LOCATION:Europe/Vienna
BEGIN:DAYLIGHT
DTSTART:20230326T030000
TZOFFSETFROM:+0100
TZOFFSETTO:+0200
TZNAME:CEST
END:DAYLIGHT
END:VTIMEZONE
END:VCALENDAR